Workbook
Name activity: Дифференциация!$E$22:$E$25
Name availability_price: TEHSHEET!$K$8
Name CHECK_LINK_RANGE_1: "Калькуляция!$I$11:$I$132"
Name checkCell_List09: Территории!$D$17:$L$17
Name checkDEfCell_List09: Территории!$F$6
Name chkGetUpdatesValue: Инструкция!$AA$81
Name chkNoUpdatesValue: Инструкция!$AA$83
Name code: Инструкция!$B$2
Name copy_f_quart: Титульный!$C$21
Name copy_f_year: Титульный!$C$20
Name count_refusal: 'Форма 4.6'!$G$13:$H$13
Name CURRENT_DATE: TEHSHEET!$G$17
Name data_type: TEHSHEET!$M$2:$M$3
Name DATA_URL: TEHSHEET!$K$11
Name DESCRIPTION_TERRITORY: REESTR_DS!$B$2:$B$3
Name diff_tariff: Титульный!$F$16
Name DocProp_TemplateCode: TEHSHEET!$L$2
Name DocProp_Version: TEHSHEET!$L$1
Name et_Comm: et_union_hor!$5:$5
Name et_hor_List01_2: modList01!$13:$14
Name et_List01_st: 'Форма 4.6'!$2:$2
Name et_List02_mo: et_union_hor!$60:$60
Name et_List02_mr: et_union_hor!$59:$59
Name et_List02_st: et_union_hor!$49:$56
Name et_List02_ter: et_union_hor!$57:$58
Name et_List03: et_union_hor!$45:$45
Name et_List04: et_union_hor!$9:$9
Name et_List07_01: et_union_hor!$29:$31
Name et_List07_04: et_union_hor!$35:$36
Name et_List07_05: et_union_hor!$40:$40
Name et_List09_0: et_union_hor!$15:$16
Name et_List09_1: et_union_hor!$20:$21
Name et_List09_2: et_union_hor!$25:$25
Name et_ver_List01_1: 'Форма 4.6'!$G:$G
Name et_ver_List05_1: 'Форма 4.4'!$G:$H
Name f_quart: Титульный!$F$21
Name f_year: Титульный!$F$20
Name fil: Титульный!$F$27
Name fil_flag: Титульный!$F$23
Name FirstLine: Инструкция!$A$6
Name flag_publication: Титульный!$F$11:$F$11
Name flag_refusal: 'Форма 4.6'!$G$9:$H$9
Name flagUsedTer_List09: Территории!$P$11:$P$17
Name form_type: Титульный!$F$13
Name form_up_date: Титульный!$F$14
Name gblnRefreshPForms: TEHSHEET!$G$20
Name Info_ChngExcludeHelp_1: modInfo!$B$10
Name Info_DiffExcludeHelp_1: modInfo!$B$5
Name Info_DiffExcludeHelp_2: modInfo!$B$6
Name Info_DiffExcludeHelp_3: modInfo!$B$7
Name Info_DiffExcludeHelp_4: modInfo!$B$8
Name Info_NoUpdates: modInfo!$B$11
Name Info_TerExcludeHelp_1: modInfo!$B$2
Name Info_TerExcludeHelp_2: modInfo!$B$3
Name inn: Титульный!$F$28
Name Instr_1: Инструкция!$7:$19
Name Instr_2: Инструкция!$20:$34
Name Instr_3: Инструкция!$35:$45
Name Instr_4: Инструкция!$46:$57
Name Instr_5: Инструкция!$58:$69

Sheet Инструкция
AA1: (требуется обновление)
B2: ="Код шаблона: " & GetCode() -> Код шаблона: FAS.JKH.OPEN.INFO.QUARTER.WARM
B3: ="Версия " & GetVersion() -> Версия 1.1
B5: =Титульный!E5 -> Информация о наличии (отсутствии) технической возможности подключения к системе теплоснабжения, а также о регистрации и ходе реализации заявок о подключении к системе теплоснабжения
E7: • На рабочем месте должен быть установлен MS Office 2007 SP3, 2010, 2013, 2016 с полной версией MS Excel • Макросы во время работы должны быть включены (!) • Для корректной работы отчёта требуется выбрать низкий уровень безопасности (В меню MS Excel 2007/2010/2013/2016: Параметры Excel | Центр управления безопасностью | Параметры центра управления безопасностью | Параметры макросов | Включить все макросы | ОК) • Если Вы работаете в табличном процессоре MS Excel 2007 и выше, то можете использовать для работы формат XLSB (Двоичная книга Excel). При работе в формате XLSB заметно быстрее происходит сохранение файла, а также уменьшается размер по сравнению с форматами XLS и XLSM • Не рекомендуется снимать защиту с листов и каким-либо образом модифицировать защищаемые формулы и расчётные поля, в противном случае, отчёт будет отклонён системой • При сохранении не следует выбирать формат XLSX (Книга Excel), так как в указанном формате макросы, необходимые для работы отчёта, безвозвратно удаляются
E21: A | F21: - не обязательные для заполнения | O21: A | P21: - с формулами и константами
E22: A | F22: - обязательные для заполнения | O22: A | P22: - с выбором значений до двойному клику
E35: Если в предложенном Вам списке необходимая организация, МР/МО отсутствуют, обновите реестры с помощью кнопок В результате синхронизации с базой данных список организаций (МР/МО) будет заменён актуальным (механизм синхронизации требует подключения к сети Интернет и основан на использовании протокола HTTPS (TCP порт 443)) Если после обновления Вам не удалось найти необходимую организацию в списке, обратитесь к ответственному за поддержание реестра Вашего региона.
E46: • При сохранении шаблона осуществляется проверка корректности данных, в том числе на наличие значений в ячейках, обязательных для заполнения • Если какая-то ячейка не удовлетворяет условию проверки, на лист «Проверка» добавляется гиперссылка на данную ячейку и указывается причина ошибки • В колонке «Статус» для каждого сообщения возможны 2 значения: ошибка и предупреждение • При наличии сообщений со статусом «Ошибка» шаблон будет отклонён системой и не будет загружен в хранилище данных, сообщения со статусом «Предупреждение» носят информационный характер, и такой шаблон будет принят системой
E58: Обратиться за помощью в службу технической поддержки
E70: Инструкция по загрузке сопроводительных материалов
E71: Инструкция по работе с отчетной формой
E79: При наличии подключения к Интернет, можно автоматически проверять наличие доступных обновлений. Выберите способ оповещения о наличии обновлений для отчёта:
F81: проверять доступные обновления (рекомендуется) | AA81: y
F83: никогда не проверять наличие обновлений (не рекомендуется)

Sheet Лог обновления
A1: Дата/Время | B1: Сообщение | C1: Статус
A2: 44291.391 | B2: Проверка доступных обновлений... | C2: Информация
A3: 44291.391 | B3: Проверка доступных обновлений... | C3: Информация
A4: 44291.392 | B4: Проверка доступных обновлений... | C4: Информация
A5: 44291.392 | B5: Проверка доступных обновлений... | C5: Информация
A6: 44392.468 | B6: Проверка доступных обновлений... | C6: Информация
A7: 44392.468 | B7: Нет доступных обновлений для отчёта с кодом FAS.JKH.OPEN.INFO.QUARTER.WARM! | C7: Информация
A8: 44483.378 | B8: Проверка доступных обновлений... | C8: Информация

Sheet Титульный
F1: 28874751
F4: =version -> Версия 1.1
E5: Информация о наличии (отсутствии) технической возможности подключения к системе теплоснабжения, а также о регистрации и ходе реализации заявок о подключении к системе теплоснабжения
E7: Субъект РФ | F7: Камчатский край
E9: Публикация2 | F9: На сайте регулирующего органа
E11: Отсутствует Интернет в границах территории МО, где организация осуществляет регулируемые виды деятельности | F11: нет
E13: Тип отчета | F13: первичное раскрытие информации
E14: Дата внесения изменений в информацию, подлежащую раскрытию | F14: 14.10.2021
E16: Применяется дифференциация тарифа по централизованным системам теплоснабжения?
E17: Информация по скольким централизованным системам теплоснабжения будет заполнена в шаблоне?
F19: Отчетный период
C20: 2021 | E20: Год | F20: 2021
C21: III квартал | E21: Квартал | F21: III квартал
E23: Является ли данное юридическое лицо подразделением (филиалом) другой организации | F23: нет
E26: Наименование организации | F26: МУП "ТЭСК"
E27: Наименование филиала
E28: ИНН | F28: 4101004827
E29: КПП | F29: 410101001
E30: Вид деятельности
E32: Тип теплоснабжающей организации | F32: Регулируемая организация
E34: Почтовый адрес регулируемой организации | F34: 683019, г. Петропавловск-Камчатский, ул. Владивостокская,29 неж.помещения поз.24-40
E35: Фамилия, имя, отчество руководителя | F35: Попов Евгений Николаевич
F37: Ответственный за составление формы
E38: Фамилия, имя, отчество | F38: Герасименко Максим Сергеевич
E39: Должность | F39: Ведущий инженер технической службы
E40: (код) номер телефона | F40: 7(4152)30-55-61
E41: e-mail | F41: MGerasimenko@teskpk.ru
E45: В соответствии с пунктом 33.12 Постановления Правительства РФ от 5 июля 2013 г. № 570 "О стандартах раскрытия информации теплоснабжающими организациями, теплосетевыми организациями и органами регулирования" теплоснабжающей организацией и теплосетевой организацией в ценовых зонах теплоснабжения информация категории "о наличии (об отсутствии) технической возможности подключения (технологического присоединения) к системе теплоснабжения, а также о регистрации и ходе реализации заявок на подключение (технологическое присоединение) к системе теплоснабжения" раскрытию не подлежит

Sheet Территории
K1: МО | L1: ОКТМО | M1: МР
D4: Перечень муниципальных районов и муниципальных образований (территорий действия тарифа)
F6: да
D8: Территория действия тарифа | F8: Муниципальный район | I8: Муниципальное образование
D9: № п/п | E9: Наименование | F9: № п/п | H9: Наименование | I9: № п/п | K9: Наименование | L9: ОКТМО
D10: 1 | E10: 2 | F10: 3 | H10: 4 | I10: 5 | K10: 6 | L10: 7
D11: 0 | M11: размерженный МР | P11: флаг используемости территории на листе Перечень тарифов | Q11: копия территорий | R11: МР (ОКТМО)
B12: auto | D12: 1 | E12: Петропавловск-Камчатский, Петропавловск-Камчатский (30701000); | G12: 0 | J12: 0 | M12: =mergeValue(H12) -> 0 | P12: {=IF(ISERROR(MATCH(MID(Q12,1,250),MID(note_ter,1,250),0)),"n","y")} -> n | Q12: Петропавловск-Камчатский, Петропавловск-Камчатский (30701000); | R12: =K12&"("&L12&")" -> ()
B13: auto | G13: 1 | H13: Петропавловск-Камчатский | J13: 0 | M13: =mergeValue(H13) -> Петропавловск-Камчатский | R13: =K13&"("&L13&")" -> ()
B14: auto | J14: 1 | K14: Петропавловск-Камчатский | L14: 30701000 | M14: =mergeValue(H14) -> Петропавловск-Камчатский | R14: =K14&" ("&L14&")" -> Петропавловск-Камчатский (30701000)
B17: man | Q17: Добавить территорию действия тарифа

Sheet Дифференциация
D4: =Титульный!E5 -> Информация о наличии (отсутствии) технической возможности подключения к системе теплоснабжения, а также о регистрации и ходе реализации заявок о подключении к системе теплоснабжения
D5: =IF(org=0,"Не определено",org) -> МУП "ТЭСК"
D18: Вид деятельности | F18: Дифференциация по территориям оказания услуг | J18: Дифференциация по централизованным системам коммунальной инфраструктуры
D19: № п/п | E19: Наименование | F19: да/нет | G19: № п/п | I19: Наименование | J19: да/нет | K19: № п/п | M19: Наименование
D20: 1 | E20: 2 | F20: 3 | G20: 4 | I20: 5 | J20: 6 | K20: 7 | M20: 8
D22: 1 | E22: Производство тепловой энергии. Некомбинированная выработка | F22: нет | H22: 1 | J22: нет | L22: 1 | X22: 4190064 | Y22: a | Z22: 1705000

Sheet Форма 4.4
G1: 4
D5: Информация об основных потребительских характеристиках регулируемых товаров и услуг регулируемой организации и их соответствии установленным требованиям
D6: =IF(org=0,"Не определено",org) -> МУП "ТЭСК"
G7: 22
D8: № п/п | E8: Наименование параметра | F8: Единица измерения | G8: Вид деятельности:_x000D_ - Производство тепловой энергии. Некомбинированная выработка_x000D_ _x000D_ Территория оказания услуг:_x000D_ - без дифференциации_x000D_ _x000D_ Централизованная система теплоснабжения:_x000D_ - наименование отсутствует | I8: Описание параметров формы
G9: Информация | H9: Ссылка на документ
D10: 1 | E10: 2 | F10: 3 | G10: =G1&".1" -> 4.1
D11: 1 | E11: Количество аварий на тепловых сетях | F11: ед. на км | I11: Указывается количество любых нарушений на тепловых сетях в расчете на один километр трубопровода.
D12: 2 | E12: Количество аварий на источниках тепловой энергии | F12: ед. на источник | I12: Указывается количество любых нарушений на источниках тепловой энергии
D13: 3 | E13: Показатели надежности и качества, установленные в соответствии с законодательством Российской Федерации | F13: x | I13: В колонке «Ссылка на документ» указывается материал в виде ссылки на документ, содержащий информацию об установленных показателях надежности и качества, предварительно загруженный в хранилище данных ФГИС ЕИАС. В случае, если показатели надежности и качества не утверждены в колонке «Информация» указывается «Не утверждены». Информация в данной строке не указывается теплоснабжающими организациями, теплосетевыми организациями в ценовых зонах теплоснабжения.
D14: 4 | E14: Сведения о несоблюдении значений параметров качества теплоснабжения и (или) параметров, отражающих допустимые перерывы в теплоснабжении | F14: x | G14: x | H14: x | I14: Информация в строках 4.1 – 4.3 указывается в случае, если организация имеет статус единой теплоснабжающей организации.
D15: 4.1 | E15: количество составленных актов, подтверждающих факт превышения разрешенных отклонений значений параметров | F15: шт.
D16: 4.2 | E16: средняя продолжительность устранения превышения разрешенных отклонений значений параметров | F16: дн.
D17: 4.3 | E17: совокупная величина снижения размера платы за тепловую энергию (мощность) потребителям в связи с превышением разрешенных отклонений значений параметров | F17: руб.
D18: 5 | E18: Доля числа исполненных в срок договоров о подключении | F18: % | I18: Указывается процент общего количества заключенных договоров о подключении (технологическом присоединении). Информация в данной строке не указывается теплоснабжающими организациями, теплосетевыми организациями в ценовых зонах теплоснабжения.
D19: 6 | E19: Средняя продолжительность рассмотрения заявлений о подключении | F19: Гкал/час | I19: Информация в данной строке не указывается теплоснабжающими организациями, теплосетевыми организациями в ценовых зонах теплоснабжения.

Sheet Форма 1.0.1 | Форма 4.4
G1: 4
D5: Форма 1.0.1 Основные параметры раскрываемой информации 1
D6: =IF(org=0,"Не определено",org) -> МУП "ТЭСК"
C8: 22 | D8: Форма 1.0.1
D9: Параметры формы | G9: Описание параметров формы
D10: № п/п | E10: Наименование параметра | F10: Информация
D11: 1 | E11: 2 | F11: 3 | G11: 4
D12: 1 | E12: Дата заполнения/внесения изменений | F12: =IF(form_up_date="","",form_up_date) -> 14.10.2021 | G12: Указывается календарная дата первичного заполнения или внесения изменений в форму в виде «ДД.ММ.ГГГГ».
D13: 2.1 | E13: Наименование централизованной системы коммунальной инфраструктуры | F13: наименование отсутствует | G13: Указывается наименование централизованной системы холодного водоснабжения/горячего водоснабжения/водоотведения/теплоснабжения, к которой относится размещаемая информация. В случае наличия нескольких централизованных систем коммунальной инфраструктуры, информация по каждой из них указывается в отдельной строке.
D14: 3.1 | E14: Наименование регулируемого вида деятельности | F14: Производство тепловой энергии. Некомбинированная выработка | G14: Указывается наименование вида регулируемой деятельности.
D15: 4.1 | E15: Территория оказания услуги по регулируемому виду деятельности | F15: x
D16: =D15&".1" -> 4.1.1 | E16: Субъект РФ | F16: =IF(region_name="","",region_name) -> Камчатский край | G16: Указывается наименование субъекта Российской Федерации
D17: 4.1.1.1 | E17: муниципальный район | F17: Петропавловск-Камчатский | G17: Указывается наименование муниципального района, на территории которого организация оказывает услуги по регулируемому виду деятельности.
D18: 4.1.1.1.1 | E18: муниципальное образование | F18: Петропавловск-Камчатский (30701000) | G18: Указывается наименование и код муниципального района, муниципального образования в соответствии с Общероссийским классификатором территорий муниципальных образований (далее - ОКТМО), входящего в муниципальный район, на территории которого организация оказывает услуги по регулируемому виду деятельности. В случае оказания услуг по регулируемому виду деятельности на территории нескольких муниципальных районов (муниципальных образований) данные по каждому их них указываются в отдельной строке.
E20: 1 Информация по данной форме публикуется при раскрытии информации по каждой из форм.

Sheet Форма 1.0.1 | Форма 4.6
G1: 4
D5: Форма 1.0.1 Основные параметры раскрываемой информации 1
D6: =IF(org=0,"Не определено",org) -> МУП "ТЭСК"
C8: 22 | D8: Форма 1.0.1
D9: Параметры формы | G9: Описание параметров формы
D10: № п/п | E10: Наименование параметра | F10: Информация
D11: 1 | E11: 2 | F11: 3 | G11: 4
D12: 1 | E12: Дата заполнения/внесения изменений | F12: =IF(form_up_date="","",form_up_date) -> 14.10.2021 | G12: Указывается календарная дата первичного заполнения или внесения изменений в форму в виде «ДД.ММ.ГГГГ».
D13: 2.1 | E13: Наименование централизованной системы коммунальной инфраструктуры | F13: наименование отсутствует | G13: Указывается наименование централизованной системы холодного водоснабжения/горячего водоснабжения/водоотведения/теплоснабжения, к которой относится размещаемая информация. В случае наличия нескольких централизованных систем коммунальной инфраструктуры, информация по каждой из них указывается в отдельной строке.
D14: 3.1 | E14: Наименование регулируемого вида деятельности | F14: Производство тепловой энергии. Некомбинированная выработка | G14: Указывается наименование вида регулируемой деятельности.
D15: 4.1 | E15: Территория оказания услуги по регулируемому виду деятельности | F15: x
D16: =D15&".1" -> 4.1.1 | E16: Субъект РФ | F16: =IF(region_name="","",region_name) -> Камчатский край | G16: Указывается наименование субъекта Российской Федерации
D17: 4.1.1.1 | E17: муниципальный район | F17: Петропавловск-Камчатский | G17: Указывается наименование муниципального района, на территории которого организация оказывает услуги по регулируемому виду деятельности.
D18: 4.1.1.1.1 | E18: муниципальное образование | F18: Петропавловск-Камчатский (30701000) | G18: Указывается наименование и код муниципального района, муниципального образования в соответствии с Общероссийским классификатором территорий муниципальных образований (далее - ОКТМО), входящего в муниципальный район, на территории которого организация оказывает услуги по регулируемому виду деятельности. В случае оказания услуг по регулируемому виду деятельности на территории нескольких муниципальных районов (муниципальных образований) данные по каждому их них указываются в отдельной строке.
E20: 1 Информация по данной форме публикуется при раскрытии информации по каждой из форм.

Sheet Форма 4.6
G1: 4
F2: Гкал/час | H2: Указывается резерв мощности для системы теплоснабжения, тариф для которой не является отличным от тарифов других систем теплоснабжения регулируемой организации. При использовании регулируемой организацией нескольких систем теплоснабжения информация о резерве мощности таких систем указывается в отношении каждой системы теплоснабжения в отдельных строках.
D5: =Титульный!E5 -> Информация о наличии (отсутствии) технической возможности подключения к системе теплоснабжения, а также о регистрации и ходе реализации заявок о подключении к системе теплоснабжения
D6: =IF(org=0,"Не определено",org) -> МУП "ТЭСК"
G7: 22
D8: № п/п | E8: Наименование параметра | F8: Единица измерения | G8: Вид деятельности:_x000D_ - Производство тепловой энергии. Некомбинированная выработка_x000D_ _x000D_ Территория оказания услуг:_x000D_ - без дифференциации_x000D_ _x000D_ Централизованная система теплоснабжения:_x000D_ - наименование отсутствует | H8: Описание параметров формы
G9: Информация
D10: 1 | E10: 2 | F10: 3 | G10: =G1&".1" -> 4.1
D11: 1 | E11: Количество поданных заявок | F11: ед | G11: 0 | H11: Указывается количество поданных заявок на подключение (технологическое присоединение) к системе теплоснабжения в течение отчетного квартала.
D12: 2 | E12: Количество исполненных заявок | F12: ед | G12: 0 | H12: Указывается количество исполненных заявок на подключение (технологическое присоединение) к системе теплоснабжения в течение отчетного квартала.
D13: 3 | E13: Количество заявок с решением об отказе в подключении | F13: ед | G13: 0 | H13: Указывается количество заявок с решением об отказе о подключении (технологическому присоединению) к системе теплоснабжения в течение отчетного квартала.
D14: 4 | E14: Причины отказа в подключении | F14: x | H14: Указывается текстовое описание причин принятия решений об отказе в подключении (технологическом присоединении) к системе теплоснабжения. Не заполняется в случае, если решения об отказе в подключении (технологическом присоединении) в течение отчетного периода не принимались.
D15: 5 | E15: Резерв мощности системы теплоснабжения в течение квартала, в том числе: | F15: Гкал/час | G15: =SUM(G16:G25) -> 3.6476084 | H15: Указывается резерв мощности системы теплоснабжения (совокупности систем теплоснабжения в случае, если для них установлены одинаковые тарифы в сфере теплоснабжения. В случае если регулируемыми организациями оказываются услуги по теплоснабжению по нескольким технологически не связанным между собой системам теплоснабжения, и если в отношении указанных систем устанавливаются различные тарифы в сфере теплоснабжения, то информация раскрывается отдельно по каждой системе теплоснабжения.
D16: 5.0
D17: 5.1 | E17: АДТ-0,55 | F17: Гкал/час | G17: 0.14199 | H17: Указывается резерв мощности для системы теплоснабжения, тариф для которой не является отличным от тарифов других систем теплоснабжения регулируемой организации. При использовании регулируемой организацией нескольких систем теплоснабжения информация о резерве мощности таких систем указывается в отношении каждой системы теплоснабжения в отдельных строках.
C18: О | D18: 5.2 | E18: ТКУэ-120 (ул. Строительная, 123а) | F18: Гкал/час | G18: 0.055437413 | H18: Указывается резерв мощности для системы теплоснабжения, тариф для которой не является отличным от тарифов других систем теплоснабжения регулируемой организации. При использовании регулируемой организацией нескольких систем теплоснабжения информация о резерве мощности таких систем указывается в отношении каждой системы теплоснабжения в отдельных строках.
C19: О | D19: 5.3 | E19: ТКУэ-120 (ул. Строительная, 133) | F19: Гкал/час | G19: 0 | H19: Указывается резерв мощности для системы теплоснабжения, тариф для которой не является отличным от тарифов других систем теплоснабжения регулируемой организации. При использовании регулируемой организацией нескольких систем теплоснабжения информация о резерве мощности таких систем указывается в отношении каждой системы теплоснабжения в отдельных строках.
C20: О | D20: 5.4 | E20: ЦТП-115А | F20: Гкал/час | G20: 1.17456 | H20: Указывается резерв мощности для системы теплоснабжения, тариф для которой не является отличным от тарифов других систем теплоснабжения регулируемой организации. При использовании регулируемой организацией нескольких систем теплоснабжения информация о резерве мощности таких систем указывается в отношении каждой системы теплоснабжения в отдельных строках.
C21: О | D21: 5.5 | E21: АБМТП-111 | F21: Гкал/час | G21: 0.698733 | H21: Указывается резерв мощности для системы теплоснабжения, тариф для которой не является отличным от тарифов других систем теплоснабжения регулируемой организации. При использовании регулируемой организацией нескольких систем теплоснабжения информация о резерве мощности таких систем указывается в отношении каждой системы теплоснабжения в отдельных строках.
C22: О | D22: 5.6 | E22: ИТП-46 | F22: Гкал/час | G22: 0.198675 | H22: Указывается резерв мощности для системы теплоснабжения, тариф для которой не является отличным от тарифов других систем теплоснабжения регулируемой организации. При использовании регулируемой организацией нескольких систем теплоснабжения информация о резерве мощности таких систем указывается в отношении каждой системы теплоснабжения в отдельных строках.
C23: О | D23: 5.7 | E23: ЦТП-345 | F23: Гкал/час | G23: 1.189213 | H23: Указывается резерв мощности для системы теплоснабжения, тариф для которой не является отличным от тарифов других систем теплоснабжения регулируемой организации. При использовании регулируемой организацией нескольких систем теплоснабжения информация о резерве мощности таких систем указывается в отношении каждой системы теплоснабжения в отдельных строках.
C24: О | D24: 5.8 | E24: АБЦТП-213 | F24: Гкал/час | G24: 0.189 | H24: Указывается резерв мощности для системы теплоснабжения, тариф для которой не является отличным от тарифов других систем теплоснабжения регулируемой организации. При использовании регулируемой организацией нескольких систем теплоснабжения информация о резерве мощности таких систем указывается в отношении каждой системы теплоснабжения в отдельных строках.
E25: Добавить централизованную систему теплоснабжения

Sheet Сведения об изменении
D7: Сведения об изменениях в первоначально опубликованной информации
D8: =IF(org=0,"Не определено",org) -> МУП "ТЭСК"
D10: № п/п | E10: Сведения
D11: 1 | E11: 2
D12: 0
D13: 1
E14: Добавить строку

Sheet Форма 1.0.2
D5: Форма 1.0.2 Информация о публикации в печатных изданиях 2
D8: Параметры формы | K8: Описание параметров формы
D9: № п/п | E9: Форма публикации | G9: Официальное печатное издание
E10: Номер | F10: Наименование | G10: Наименование | H10: Номер | I10: Дата выпуска | J10: Ссылка на документ
D11: 1 | E11: 2 | F11: 3 | G11: 4 | H11: 5 | I11: 6 | J11: 7 | K11: 8
A12: 3 | D12: 1 | K12: В колонке «Дата выпуска» дата выпуска печатного издания указывается в виде «ДД.ММ.ГГГГ». В колонке «Ссылка на документ» указывается ссылка на отсканированную копию печатного издания, предварительно загруженную в хранилище федеральной государственной информационной системы «Единая информационно-аналитическая система «Федеральный орган регулирования - региональные органы регулирования - субъекты регулирования» (далее – ФГИС ЕИАС), с опубликованной информацией. В случае публикации информации в нескольких печатных изданиях информация по каждому из них указывается в отдельной строке. | M12: =IF(ISERROR(INDEX(kind_of_nameforms,MATCH(E12,kind_of_forms,0),1)),"",INDEX(kind_of_nameforms,MATCH(E12,kind_of_forms,0),1))
E13: Добавить строку
E15: 2 В данной форме публикуется информация по каждой из форм раскрытия, данные в которой относятся к муниципальному образованию, в котором отсутствует доступ в информационно-телекоммуникационную сеть «Интернет» (далее – сеть «Интернет»).

Sheet Комментарии
D7: Комментарии
D8: =IF(org=0,"Не определено",org) -> МУП "ТЭСК"
D10: № п/п | E10: Комментарий
D11: 1 | E11: 2
D12: 0
E13: Добавить

Sheet Проверка
B2: Результат проверки
B4: Ссылка1 | C4: Ссылка2 | D4: Причина | E4: Статус

Sheet modProv

Sheet modReestr

Sheet AllSheetsInThisWorkbook
A1: Расчетные листы | B1: Скрытые листы
A2: Инструкция | B2: modProv
A3: Лог обновления | B3: modReestr
A4: Титульный | B4: AllSheetsInThisWorkbook
A5: Территории | B5: TEHSHEET
A6: Дифференциация | B6: modCheckCyan
A7: Форма 4.4 | B7: modInfo
A8: Форма 1.0.1 | Форма 4.6 | B8: et_union_hor
A9: Форма 4.6 | B9: et_union_vert
A10: Сведения об изменении | B10: modList00
A11: Форма 1.0.2 | B11: modList01
A12: Комментарии | B12: modList02
A13: Проверка | B13: modList03
B14: modList04
B15: modList05
B16: modList07
B17: modList09
B18: modHTTP
B19: modfrmRegion
B20: MR_LIST
B21: REESTR_VT
B22: REESTR_VED
B23: modfrmReestrObj
B24: DataOrg
B25: modfrmReestr
... B40: REESTR_LINK

Sheet TEHSHEET
A1: REGION | C1: year_list | D1: logical | E1: Месяц (MONTH) | F1: Квартал (QUARTER) | G1: Месяц (kind_of_publication) | H1: Единица измерения объема оказываемых услуг ГВС /kind_of_unit_GVS/ | I1: Вид тарифа /list_of_tariff/ | J1: mr_id | K1: версия шаблона (DocProp_Version) | L1: 0.1 | M1: Тип отчета data_type | N1: type_org_list | S1: Перечень форм (kind_of_forms)
A2: Алтайский край | C2: 2015 | D2: да | E2: январь | F2: I квартал | G2: На официальном сайте организации | H2: тыс.куб.м/сутки | J2: 52 | K2: код шаблона (DocProp_TemplateCode) | L2: FAS.JKH.OPEN.INFO.QUARTER.HVS | M2: первичное раскрытие информации | N2: Регулируемая организация | S2: Форма 1.0.1 | T2: Основные параметры раскрываемой информации
A3: Амурская область | C3: 2016 | D3: нет | E3: февраль | F3: II квартал | G3: На сайте регулирующего органа | H3: Гкал/час | I3: Без дифференциации | J3: sys_id | K3: сфера (TSphere) | L3: ХВС | M3: изменения в раскрытой ранее информации | N3: Единая теплоснабжающая организация | S3: Форма 4.6 | T3: =Титульный!E5 -> Информация о наличии (отсутствии) технической возможности подключения к системе теплоснабжения, а также о регистрации и ходе реализации заявок о подключении к системе теплоснабжения
A4: Архангельская область | C4: 2017 | E4: март | F4: III квартал | H4: куб.м/час | J4: 104 | K4: сфера(латиница) (TSphere_trans) | L4: VS | N4: Теплоснабжающая организация в ценовой зоне теплоснабжения
A5: Астраханская область | C5: 2018 | E5: апрель | F5: IV квартал | K5: сфера расширено (TSphere_full) | N5: Теплосетевая организация в ценовой зоне теплоснабжения
A6: Белгородская область | C6: 2019 | E6: май
A7: Брянская область | C7: 2020 | E7: июнь
A8: Владимирская область | C8: 2021 | E8: июль | K8: true
A9: Волгоградская область | C9: 2022 | E9: август
A10: Вологодская область | E10: сентябрь
A11: Воронежская область | E11: октябрь
A12: г.Байконур | E12: ноябрь
A13: г. Москва | E13: декабрь
A14: г.Санкт-Петербург
A15: г.Севастополь
A16: Еврейская автономная область | G16: Текущая дата
A17: Забайкальский край | C17: Организация | D17: =IF(f_year = "","", IF(LEN(f_quart)=0,"",IF(f_quart="I квартал", "01.01."&f_year,IF(f_quart="II квартал","01.04."&f_year,(IF(f_quart="III квартал", "01.07."&f_year,"01.10."&f_year)))) )) -> 01.07.2021 | E17: =IF(f_year = "","", IF(LEN(f_quart)=0,"",IF(f_quart="I квартал", "31.03."& f_year,IF(f_quart="II квартал","30.06."& f_year,(IF(f_quart="III квартал", "30.09."& f_year,"31.12."& f_year)))) )) -> 30.09.2021 | G17: 14.10.2021 05:05:49
A18: Ивановская область
A19: Иркутская область | G19: Признак изменения данных на листе Доступ к товарам и услугам
A20: Кабардино-Балкарская республика | C20: Виды деятельности | G20: TRUE
A21: Калининградская область
A22: Калужская область
A23: Камчатский край
A24: Карачаево-Черкесская республика
A25: Кемеровская область
A26: Кировская область
A27: Костромская область
A28: Краснодарский край
A29: Красноярский край
A30: Курганская область
A31: Курская область
A32: Ленинградская область
... A87: Ярославская область

Sheet modCheckCyan
A2: =IF('Сведения об изменении'!$E$13="",1,0) -> 1
A3: =IF(Дифференциация!$E$22="",1,0) -> 0
A4: =IF(Территории!$E$12="",1,0) -> 0
A5: =IF('Форма 4.6'!$G$11="",1,0) -> 0
A6: =IF('Форма 4.6'!$G$12="",1,0) -> 0
A7: =IF('Форма 4.6'!$G$13="",1,0) -> 0
A8: =IF('Форма 4.6'!$E$17="",1,0) -> 0
A9: =IF('Форма 4.6'!$E$18="",1,0) -> 0
A10: =IF('Форма 4.6'!$E$19="",1,0) -> 0
A11: =IF('Форма 4.6'!$E$20="",1,0) -> 0
A12: =IF('Форма 4.6'!$E$21="",1,0) -> 0
A13: =IF('Форма 4.6'!$E$22="",1,0) -> 0
A14: =IF('Форма 4.6'!$E$23="",1,0) -> 0
A15: =IF('Форма 4.6'!$E$24="",1,0) -> 0

Sheet modInfo
B1: Территории
A2: 1 | B2: Наименование территории оказания услуг для целей идентификации
A3: 2 | B3: Муниципальные районы и муниципальные образования, на территории которых осуществляется оказание услуг
B4: Дифференциация
A5: 1 | B5: В случае, если регулируемая организация осуществляет несколько видов деятельности, информация о которых подлежит раскрытию, информация по каждому виду деятельности раскрывается отдельно.
A6: 2 | B6: Поле заполняется выбором значений из списка. Если значений для выбора нет - убедитесь, что лист "Территории" заполнен.
A7: 3 | B7: Условное наименование централизованной системы коммунальной инфраструктуры для целей идентификации.
A8: 4 | B8: В случае, если регулируемыми организациями оказываются услуги по нескольким технологически не связанным между собой централизованным системам коммунальной инфраструктуры и если в отношении указанных централизованных систем устанавливаются различные тарифы, то информация раскрывается отдельно по каждой централизованной системе коммунальной инфраструктуры.
B9: Сведения об изменении
A10: 1 | B10: Лист заполняется в случае, если на Титульном листе в поле "Тип отчета" выбрано значение «Изменения в раскрытой ранее информации».
B11: Нет доступных обновлений, версия отчёта актуальна

Sheet et_union_hor
A3: et_Comm
A7: et_List04
A13: et_List09_0
B15: auto | D15: 1 | G15: 0 | J15: 0 | M15: =mergeValue(H15) -> 0 | P15: {=IF(ISERROR(MATCH(MID(Q15,1,250),MID(note_ter,1,250),0)),"n","y")} -> y | R15: =K15&"("&L15&")" -> ()
H16: Добавить МР
A18: et_List09_1
B20: auto | G20: 0 | J20: 0 | M20: =mergeValue(H20) -> 0 | R20: =K20&"("&L20&")" -> ()
K21: Добавить МО
A23: et_List09_2
B25: auto | J25: 0 | M25: =mergeValue(H25) -> 0 | R25: =K25&" ("&L25&")" -> ()
A27: et_List07_1
D29: 1 | F29: нет | H29: 1 | J29: нет | L29: 1 | Y29: a | Z29: 1705000
M30: Добавить централизованную систему коммунальной инфраструктуры
I31: Добавить описание территории оказания услуг
A33: et_List07_4
H35: 1 | J35: нет | L35: 1 | Y35: a | Z35: 1705000
M36: Добавить централизованную систему коммунальной инфраструктуры
A38: et_List07_5
L40: 1 | Y40: a | Z40: 1705000
A43: et_List03
A45: 3 | M45: =IF(ISERROR(INDEX(kind_of_nameforms,MATCH(E45,kind_of_forms,0),1)),"",INDEX(kind_of_nameforms,MATCH(E45,kind_of_forms,0),1))
A47: et_List02_st | B47: et_List02_ter | C47: et_List02_mr | D47: et_List02_mo
D50: Форма 1.0.1
D51: Параметры формы | G51: Описание параметров формы
D52: № п/п | E52: Наименование параметра | F52: Информация
D53: 1 | E53: 2 | F53: 3 | G53: 4
D54: 1 | E54: Дата заполнения/внесения изменений | F54: =IF(form_up_date="","",form_up_date) -> 14.10.2021 | G54: Указывается календарная дата первичного заполнения или внесения изменений в форму в виде «ДД.ММ.ГГГГ».
D55: 2.1 | E55: Наименование централизованной системы коммунальной инфраструктуры | G55: Указывается наименование централизованной системы холодного водоснабжения/горячего водоснабжения/водоотведения/теплоснабжения, к которой относится размещаемая информация. В случае наличия нескольких централизованных систем коммунальной инфраструктуры, информация по каждой из них указывается в отдельной строке.
D56: 3.1 | E56: Наименование регулируемого вида деятельности | G56: Указывается наименование вида регулируемой деятельности.
D57: 4.1 | E57: Территория оказания услуги по регулируемому виду деятельности | F57: x
D58: =D57&".1" -> 4.1.1 | E58: Субъект РФ | F58: =IF(region_name="","",region_name) -> Камчатский край | G58: Указывается наименование субъекта Российской Федерации
D59: 4.1.1.1 | E59: муниципальный район | G59: Указывается наименование муниципального района, на территории которого организация оказывает услуги по регулируемому виду деятельности.
D60: 4.1.1.1.1 | E60: муниципальное образование | G60: Указывается наименование и код муниципального района, муниципального образования в соответствии с Общероссийским классификатором территорий муниципальных образований (далее - ОКТМО), входящего в муниципальный район, на территории которого организация оказывает услуги по регулируемому виду деятельности. В случае оказания услуг по регулируемому виду деятельности на территории нескольких муниципальных районов (муниципальных образований) данные по каждому их них указываются в отдельной строке.

Sheet et_union_vert

Sheet modList00

Sheet modList01

Sheet modList02

Sheet modList03

Sheet modList04

Sheet modList05

Sheet modList07

Sheet modList09

Sheet modHTTP

Sheet modfrmRegion

Sheet MR_LIST

Sheet REESTR_VT

Sheet REESTR_VED
A1: ID_TARIFF_NAME | B1: VED_NAME
A2: 4190064 | B2: Производство тепловой энергии. Некомбинированная выработка
A3: 4190065 | B3: Производство тепловой энергии. Комбинированная выработка с уст. мощностью производства электрической энергии менее 25 МВт
A4: 4190066 | B4: Производство тепловой энергии. Комбинированная выработка с уст. мощностью производства электрической энергии 25 МВт и более
A5: 4190067 | B5: Производство. Теплоноситель
A6: 4190068 | B6: Передача. Тепловая энергия
A7: 4190069 | B7: Передача. Теплоноситель
A8: 4190070 | B8: Сбыт. Тепловая энергия
A9: 4190071 | B9: Сбыт. Теплоноситель
A10: 4190072 | B10: Подключение (технологическое присоединение) к системе теплоснабжения
A11: 4190073 | B11: Поддержание резервной тепловой мощности при отсутствии потребления тепловой энергии

Sheet modfrmReestrObj

Sheet DataOrg

Sheet modfrmReestr

Sheet modUpdTemplMain

Sheet REESTR_ORG
A1: № | B1: REGION_ID | C1: REGION_NAME | D1: RST_ORG_ID | E1: ORG_NAME | F1: INN_NAME | G1: KPP_NAME | H1: ORG_START_DATE | I1: ORG_END_DATE
A2: 1 | B2: 2667 | C2: Камчатский край | D2: 30941592 | E2: АО "356УНР" | F2: 4101129872 | G2: 770401001 | H2: 06-05-2009 00:00:00 | J2: WARM
A3: 2 | B3: 2667 | C3: Камчатский край | D3: 26318764 | E3: АО "Геотерм" | F3: 4101023932 | G3: 410101001 | H3: 30-08-1994 00:00:00 | J3: WARM
A4: 3 | B4: 2667 | C4: Камчатский край | D4: 31316683 | E4: АО "Горсети" | F4: 8202016960 | G4: 820201001 | H4: 01-04-2019 00:00:00 | J4: WARM
A5: 4 | B5: 2667 | C5: Камчатский край | D5: 28423994 | E5: АО "Камчатэнергосервис" | F5: 4101145793 | G5: 410201001 | H5: 16-08-2013 00:00:00 | J5: WARM
A6: 5 | B6: 2667 | C6: Камчатский край | D6: 26467024 | E6: АО "Корякэнерго" | F6: 8202010020 | G6: 410101001 | H6: 16-08-2005 00:00:00 | J6: WARM
A7: 6 | B7: 2667 | C7: Камчатский край | D7: 27565781 | E7: АО "Оборонэнерго" филиал "Камчатский" | F7: 7704726225 | G7: 410143001 | J7: WARM
A8: 7 | B8: 2667 | C8: Камчатский край | D8: 30924849 | E8: АО "Оссора" | F8: 8203011524 | G8: 820301001 | H8: 17-05-2017 00:00:00 | J8: WARM
A9: 8 | B9: 2667 | C9: Камчатский край | D9: 26318755 | E9: АО "Паужетская ГеоЭС" | F9: 4101092693 | G9: 410101001 | H9: 21-06-2005 00:00:00 | J9: WARM
A10: 9 | B10: 2667 | C10: Камчатский край | D10: 27947401 | E10: АО "Петропавловск-Камчатский морской торговый порт" | F10: 4101017801 | G10: 410101001 | J10: WARM
A11: 10 | B11: 2667 | C11: Камчатский край | D11: 26789049 | E11: АО "Северо-Восточный ремонтный центр" | F11: 4102009338 | G11: 410250001 | H11: 27-02-2008 00:00:00 | J11: WARM
A12: 11 | B12: 2667 | C12: Камчатский край | D12: 26459804 | E12: АО "Судоремсервис" | F12: 4102007860 | G12: 410101001 | H12: 13-02-2003 00:00:00 | J12: WARM
A13: 12 | B13: 2667 | C13: Камчатский край | D13: 30373038 | E13: АО "Тепло земли" | F13: 4105045327 | G13: 410501001 | H13: 24-08-2015 00:00:00 | J13: WARM
A14: 13 | B14: 2667 | C14: Камчатский край | D14: 26607853 | E14: АО "ЮЭСК" | F14: 4101101796 | G14: 410101001 | J14: WARM
A15: 14 | B15: 2667 | C15: Камчатский край | D15: 26319169 | E15: ЗАО "Акрос" | F15: 4101013772 | G15: 410150001 | H15: 25-09-2002 00:00:00 | J15: WARM
A16: 15 | B16: 2667 | C16: Камчатский край | D16: 26319175 | E16: ЗАО "ПСРЗ" | F16: 4101017329 | G16: 410101001 | H16: 06-11-1992 00:00:00 | J16: WARM
A17: 16 | B17: 2667 | C17: Камчатский край | D17: 28876509 | E17: МАУ "Строительства, благоустройства и жилищно-коммунального хозяйства" | F17: 4105044161 | G17: 410501001 | H17: 28-10-2014 00:00:00 | J17: WARM
A18: 17 | B18: 2667 | C18: Камчатский край | D18: 26459620 | E18: МУП "Горсети" пгт. Палана | F18: 8202011024 | G18: 820201001 | J18: WARM
A19: 18 | B19: 2667 | C19: Камчатский край | D19: 31470236 | E19: МУП "Запорожское" | F19: 4108007150 | G19: 410801001 | H19: 26-02-2009 00:00:00 | J19: WARM
A20: 19 | B20: 2667 | C20: Камчатский край | D20: 28466265 | E20: МУП "Многоотраслевое предприятие ЖКХ КСП" | F20: 4105042478 | G20: 410501001 | J20: WARM
A21: 20 | B21: 2667 | C21: Камчатский край | D21: 31231932 | E21: МУП "Олюторский" | F21: 8201010839 | G21: 820101001 | H21: 04-07-2018 00:00:00 | J21: WARM
A22: 21 | B22: 2667 | C22: Камчатский край | D22: 28874751 | E22: МУП "ТЭСК" | F22: 4101004827 | G22: 410101001 | H22: 19-12-2002 00:00:00 | J22: WARM
A23: 22 | B23: 2667 | C23: Камчатский край | D23: 30833658 | E23: МУП "Тепловодхоз" | F23: 4109003663 | G23: 410901001 | H23: 09-07-2008 00:00:00 | J23: WARM
A24: 23 | B24: 2667 | C24: Камчатский край | D24: 31033488 | E24: МУП «Елизовская управляющая компания» | F24: 4105045944 | G24: 410501001 | J24: WARM
A25: 24 | B25: 2667 | C25: Камчатский край | D25: 26318765 | E25: ОАО "КамГЭК" | F25: 4101047002 | G25: 410101001 | H25: 18-09-2002 00:00:00 | J25: WARM
A26: 25 | B26: 2667 | C26: Камчатский край | D26: 26596540 | E26: ОАО "Петропавловская судоверфь" | F26: 4101000477 | G26: 410101001 | H26: 30-07-2002 00:00:00 | J26: WARM
A27: 26 | B27: 2667 | C27: Камчатский край | D27: 26319171 | E27: ООО "28-Электросеть" | F27: 4105031155 | G27: 410501001 | H27: 05-10-2006 00:00:00 | J27: WARM
A28: 27 | B28: 2667 | C28: Камчатский край | D28: 28500705 | E28: ООО "41 Электрическая сеть" | F28: 4105043288 | G28: 410501001 | H28: 09-12-2013 00:00:00 | J28: WARM
A29: 28 | B29: 2667 | C29: Камчатский край | D29: 28500694 | E29: ООО "Алеир" | F29: 4101138563 | G29: 410101001 | H29: 15-07-2010 00:00:00 | J29: WARM
A30: 29 | B30: 2667 | C30: Камчатский край | D30: 28447354 | E30: ООО "Гермес" | F30: 4109004152 | G30: 410901001 | H30: 17-01-2003 00:00:00 | J30: WARM
A31: 30 | B31: 2667 | C31: Камчатский край | D31: 31423553 | E31: ООО "ИКС Петропавловск-Камчатский" | F31: 4105097580 | G31: 410501001 | H31: 25-09-2019 00:00:00 | J31: WARM
A32: 31 | B32: 2667 | C32: Камчатский край | D32: 26319168 | E32: ООО "Интарсия" | F32: 4101018361 | G32: 410101001 | H32: 30-06-1998 00:00:00 | J32: WARM
A33: 32 | B33: 2667 | C33: Камчатский край | D33: 26790667 | E33: ООО "Интэко" | F33: 4109005420 | G33: 410901001 | H33: 14-03-2012 00:00:00 | J33: WARM
A34: 33 | B34: 2667 | C34: Камчатский край | D34: 27399488 | E34: ООО "КВТ" | F34: 4101140379 | G34: 410101001 | J34: WARM
A35: 34 | B35: 2667 | C35: Камчатский край | D35: 28012056 | E35: ООО "Ключиэнерго" | F35: 4109005195 | G35: 410901001 | J35: WARM
A36: 35 | B36: 2667 | C36: Камчатский край | D36: 26459660 | E36: ООО "Колхоз Ударник" | F36: 8203010961 | G36: 820301001 | H36: 29-11-2002 00:00:00 | J36: WARM
A37: 36 | B37: 2667 | C37: Камчатский край | D37: 26459740 | E37: ООО "Коммунэнерго Усть-Камчатского муниципального района" | F37: 4109005406 | G37: 410900001 | J37: WARM
A38: 37 | B38: 2667 | C38: Камчатский край | D38: 30371438 | E38: ООО "КорякТеплоСнаб" | F38: 4101169385 | G38: 410101001 | H38: 24-04-2015 00:00:00 | J38: WARM
A39: 38 | B39: 2667 | C39: Камчатский край | D39: 27565705 | E39: ООО "Морошка" | F39: 8203002618 | G39: 820301001 | H39: 30-12-2002 00:00:00 | J39: WARM
A40: 39 | B40: 2667 | C40: Камчатский край | D40: 27576624 | E40: ООО "Норд Фиш" | F40: 4109005188 | G40: 410901001 | J40: WARM
A41: 40 | B41: 2667 | C41: Камчатский край | D41: 28145675 | E41: ООО "РСО "Силуэт" | F41: 4101154090 | G41: 410101001 | J41: WARM
A42: 41 | B42: 2667 | C42: Камчатский край | D42: 31342192 | E42: ООО "РСО" | F42: 4101172885 | G42: 410101001 | H42: 07-12-2015 00:00:00 | J42: WARM
A43: 42 | B43: 2667 | C43: Камчатский край | D43: 26459562 | E43: ООО "Санаторий Начикинский" | F43: 4105029808 | G43: 410501001 | J43: WARM
A44: 43 | B44: 2667 | C44: Камчатский край | D44: 26612140 | E44: ООО "Стимул" | F44: 4107002093 | G44: 410701001 | J44: WARM
A45: 44 | B45: 2667 | C45: Камчатский край | D45: 27576612 | E45: ООО "Строй-Альянс" | F45: 4109005318 | G45: 410901001 | J45: WARM
A46: 45 | B46: 2667 | C46: Камчатский край | D46: 30430980 | E46: ООО "Терминал "Сероглазка"" | F46: 4101171514 | G46: 410101001 | H46: 14-09-2015 00:00:00 | J46: WARM
A47: 46 | B47: 2667 | C47: Камчатский край | D47: 28012044 | E47: ООО "Термо" | F47: 4109005237 | G47: 410901001 | J47: WARM
A48: 47 | B48: 2667 | C48: Камчатский край | D48: 27544120 | E48: ООО "ЦТВС" | F48: 4101142739 | G48: 410101001 | J48: WARM
A49: 48 | B49: 2667 | C49: Камчатский край | D49: 26459678 | E49: ООО "ЭСИ" | F49: 8203010915 | G49: 820301001 | H49: 08-07-2011 00:00:00 | J49: WARM
A50: 49 | B50: 2667 | C50: Камчатский край | D50: 31046740 | E50: ООО "Энергоресурс" | F50: 4101181738 | G50: 410101001 | H50: 17-10-2017 00:00:00 | J50: WARM
A51: 50 | B51: 2667 | C51: Камчатский край | D51: 31288219 | E51: ООО «ОптимаЭР» | F51: 4101185411 | G51: 410101001 | J51: WARM
A52: 51 | B52: 2667 | C52: Камчатский край | D52: 28980149 | E52: ООО «Управляющая организация Сокоч» | F52: 4105037333 | G52: 410501001 | J52: WARM
A53: 52 | B53: 2667 | C53: Камчатский край | D53: 26459608 | E53: ПАО "Камчатскэнерго" | F53: 4100000668 | G53: 775050001 | H53: 09-04-1993 00:00:00 | J53: WARM
A54: 53 | B54: 2667 | C54: Камчатский край | D54: 26459596 | E54: Пограничное управление ФСБ России по восточному арктическому району | F54: 4101169459 | G54: 410101001 | J54: WARM
A55: 54 | B55: 2667 | C55: Камчатский край | D55: 26616623 | E55: РА "Колхоз Красный труженик" | F55: 4108000596 | G55: 410801001 | J55: WARM
A56: 55 | B56: 2667 | C56: Камчатский край | D56: 28263055 | E56: УФСБ России по Камчатскому краю | F56: 4101092326 | G56: 410101001 | H56: 10-07-2003 00:00:00 | J56: WARM
A57: 56 | B57: 2667 | C57: Камчатский край | D57: 31213907 | E57: ФГКУ «Камчатский спасательный центр МЧС России» | F57: 4105006293 | G57: 410501001 | J57: WARM
A58: 57 | B58: 2667 | C58: Камчатский край | D58: 30925177 | E58: филиал ФГБУ "ЦЖКУ" МО РФ по ТОФ | F58: 7729314745 | G58: 410101001 | H58: 20-03-2017 00:00:00 | J58: WARM

Sheet modClassifierValidate

Sheet modHyp

Sheet modfrmDateChoose

Sheet modComm

Sheet modThisWorkbook

Sheet REESTR_MO
A1: № | B1: МР | C1: МО | D1: МО_ОКТМО
A2: 1 | B2: Алеутский муниципальный округ | C2: Алеутский муниципальный округ | D2: 30501000
A3: 2 | B3: Быстринский муниципальный район | C3: Анавгайское сельское поселение | D3: 30604402
A4: 3 | B4: Быстринский муниципальный район | C4: Быстринский муниципальный район | D4: 30604000
A5: 4 | B5: Быстринский муниципальный район | C5: Межселенные территории, входящие в состав территории Быстринского муниципального района, кроме территорий сельских поселений | D5: 30604701
A6: 5 | B6: Быстринский муниципальный район | C6: Эссовское сельское поселение | D6: 30604401
A7: 6 | B7: Вилючинский ЗАТО | C7: Вилючинский ЗАТО | D7: 30735000
A8: 7 | B8: Елизовский муниципальный район | C8: Вулканное городское поселение | D8: 30607154
A9: 8 | B9: Елизовский муниципальный район | C9: Елизовский муниципальный район | D9: 30607000
A10: 9 | B10: Елизовский муниципальный район | C10: Елизовское городское поселение | D10: 30607101
A11: 10 | B11: Елизовский муниципальный район | C11: Корякское сельское поселение | D11: 30607407
A12: 11 | B12: Елизовский муниципальный район | C12: Межселенные территории, входящие в состав территории Елизовского муниципального района, кроме территорий городских и сельских поселений | D12: 30607701
A13: 12 | B13: Елизовский муниципальный район | C13: Начикинское сельское поселение | D13: 30607410
... A75: 74 | B75: поселок Палана | C75: поселок Палана | D75: 30851000

Sheet REESTR_MO_FILTER

Sheet modfrmReestrMR

Sheet modServiceModule

Sheet modfrmCheckUpdates

Sheet REESTR_DS
B3: Петропавловск-Камчатский, Петропавловск-Камчатский (30701000);

Sheet REESTR_CHS

Sheet REESTR_LINK
A1: ID | B1: LINK_NAME | C1: REGION
A2: 4189678 | B2: https://portal.eias.ru/Portal/DownloadPage.aspx?type=12&guid=????????-????-????-????-???????????? | C2: ALL
A3: 4190415 | B3: https://eias.fstrf.ru/disclo/get_file?p_guid=????????-????-????-????-???????????? | C3: ALL
